BEGIN:VCALENDAR
VERSION:2.0
X-WR-CALNAME:EventsCalendar
BEGIN:VEVENT
CATEGORIES:Category,Wellness Center Events,Location,Academic Commons
DESCRIPTION:71953
TEST: 17/04/26 13:30 17/04/26 15:00
DTSTAMP:20260419T081348
DTSTART:20260417T133000
DTEND:20260417T150000
LOCATION:Academic Commons
SUMMARY;LANGUAGE=en-us:Fueling Dragons Spring Cooking Class
UID:abb50d3f832e71523893ba43738cdbd0@www.howardcc.edu
END:VEVENT
END:VCALENDAR





              