BEGIN:VCALENDAR
VERSION:2.0
X-WR-CALNAME:EventsCalendar
BEGIN:VEVENT
CATEGORIES:Category,Wellness Center Events,Location,Academic Commons
DESCRIPTION:71951
TEST: 17/04/26 11:00 17/04/26 12:30
DTSTAMP:20260421T062333
DTSTART:20260417T110000
DTEND:20260417T123000
LOCATION:Academic Commons
SUMMARY;LANGUAGE=en-us:Fueling Dragons Spring Cooking Class
UID:6bfbb5f2355094ce25c9a89c6c0d40c4@www.howardcc.edu
END:VEVENT
END:VCALENDAR





              