BEGIN:VCALENDAR
VERSION:2.0
X-WR-CALNAME:EventsCalendar
BEGIN:VEVENT
CATEGORIES:Category,HCC Calendar,Category,Student Life Events,Location,HCC Quad
DESCRIPTION:72187
TEST: 30/04/26 14:00 30/04/26 16:00
DTSTAMP:20260424T101535
DTSTART:20260430T140000
DTEND:20260430T160000
LOCATION:HCC Quad
SUMMARY;LANGUAGE=en-us:Spring Fling
UID:afef5bc537b2d437b33716b6318c2962@www.howardcc.edu
END:VEVENT
END:VCALENDAR





              